BEGIN:VCALENDAR
VERSION:2.0
PRODID:-//Υπουργείο Αθλητισμού - ECPv6.6.4.2//NONSGML v1.0//EN
CALSCALE:GREGORIAN
METHOD:PUBLISH
X-WR-CALNAME:Υπουργείο Αθλητισμού
X-ORIGINAL-URL:https://minsports.gov.gr
X-WR-CALDESC:Υπουργείο Αθλητισμού - Εκδηλώσεις
REFRESH-INTERVAL;VALUE=DURATION:PT1H
X-Robots-Tag:noindex
X-PUBLISHED-TTL:PT1H
BEGIN:VTIMEZONE
TZID:Europe/Athens
BEGIN:DAYLIGHT
TZOFFSETFROM:+0200
TZOFFSETTO:+0300
TZNAME:EEST
DTSTART:20230326T010000
END:DAYLIGHT
BEGIN:STANDARD
TZOFFSETFROM:+0300
TZOFFSETTO:+0200
TZNAME:EET
DTSTART:20231029T010000
END:STANDARD
END:VTIMEZONE
BEGIN:VEVENT
DTSTART;VALUE=DATE:20231005
DTEND;VALUE=DATE:20231007
DTSTAMP:20260421T133402
CREATED:20240410T111833Z
LAST-MODIFIED:20240410T111833Z
UID:26739-1696464000-1696636799@minsports.gov.gr
SUMMARY:Διημερίδα για την Ευαισθητοποίηση (ARPS\, Awareness Raising Practical Session) σε θέματα χειραγώγησης αθλητικών αγώνων
DESCRIPTION:Με μεγάλη επιτυχία ολοκληρώθηκε η διημερίδα για την Ευαισθητοποίηση (ARPS\, Awareness Raising Practical Session)  σε θέματα χειραγώγησης αθλητικών αγώνων\, που διοργάνωσε στο Υπουργείο Αθλητισμού (5&6/10/23)\, η  Εθνική Πλατφόρμα Αθλητικής Ακεραιότητας\, σε συνεργασία με τον συντονιστή του ευρωπαϊκού προγράμματος IntegriSport 3.0 (CSCF Foundation for Sports Integrity)\, με τη συμμετοχή του «πυρήνα» της ΕΠΑΘΛΑ\, εκπροσώπων των διωκτικών αρχών\, αθλητικών ομοσπονδιών\, αθλητικών φορέων\, στοιχηματικών εταιριών\, όπως και μελών των ενώσεων αθλητών και αθλητριών.\n\nΟ αναπληρωτής Υπουργός Αθλητισμού\, Γιάννης Βρούτσης\, καλωσόρισε τους συμμετέχοντες και υπογράμμισε ότι η Ελλάδα με την ΕΠΑΘΛΑ που συντονίζεται από τον Γενικό Γραμματέα Αθλητισμού\, Γιώργο Μαυρωτά\, έχει δημιουργήσει μία βέλτιστη πρακτική για τις ευρωπαϊκές χώρες και ξεχωρίζει για το έργο της στην κοινή προσπάθεια της διεθνούς κοινότητας να πατάξει το φαινόμενο της χειραγώγησης στον Αθλητισμό.
URL:https://minsports.gov.gr/event/diimerida-gia-tin-evaisthitopoiisi-arps-awareness-raising-practical-session-se-themata-cheiragogisis-athlitikon-agonon/
LOCATION:ΥΠΟΥΡΓΕΙΟ ΠΑΙΔΕΙΑΣ\, ΘΡΗΣΚΕΥΜΑΤΩΝ ΚΑΙ ΑΘΛΗΤΙΣΜΟΥ\, ΑΝΔΡΕΑ ΠΑΠΑΝΔΡΕΟΥ 37\, ΜΑΡΟΥΣΙ\, ΑΤΤΙΚΗΣ\, 15180\, Ελλάδα
CATEGORIES:Ε.Π.ΑΘΛ.Α.
ATTACH;FMTTYPE=image/jpeg:https://minsports.gov.gr/wp-content/uploads/2024/04/family_photo-scaled.jpg
ORGANIZER;CN="%CE%95.%CE%A0.%CE%91%CE%98%CE%9B.%CE%91.":MAILTO:info@epathla.gov.gr
END:VEVENT
END:VCALENDAR