BEGIN:VCALENDAR
VERSION:2.0
PRODID:-//Υπουργείο Αθλητισμού - ECPv6.6.4.2//NONSGML v1.0//EN
CALSCALE:GREGORIAN
METHOD:PUBLISH
X-WR-CALNAME:Υπουργείο Αθλητισμού
X-ORIGINAL-URL:https://minsports.gov.gr
X-WR-CALDESC:Υπουργείο Αθλητισμού - Εκδηλώσεις
REFRESH-INTERVAL;VALUE=DURATION:PT1H
X-Robots-Tag:noindex
X-PUBLISHED-TTL:PT1H
BEGIN:VTIMEZONE
TZID:Europe/Athens
BEGIN:DAYLIGHT
TZOFFSETFROM:+0200
TZOFFSETTO:+0300
TZNAME:EEST
DTSTART:20230326T010000
END:DAYLIGHT
BEGIN:STANDARD
TZOFFSETFROM:+0300
TZOFFSETTO:+0200
TZNAME:EET
DTSTART:20231029T010000
END:STANDARD
END:VTIMEZONE
BEGIN:VEVENT
DTSTART;VALUE=DATE:20231201
DTEND;VALUE=DATE:20231202
DTSTAMP:20260421T085744
CREATED:20240410T123756Z
LAST-MODIFIED:20240410T123756Z
UID:26754-1701388800-1701475199@minsports.gov.gr
SUMMARY:Ετήσια εκδήλωση της Εθνικής Πλατφόρμας Αθλητικής Ακεραιότητας
DESCRIPTION:Στοιχεία και προτάσεις για την αντιμετώπιση του φαινομένου κατατέθηκαν από διεθνείς και εθνικούς φορείς στην ετήσια εκδήλωση της Εθνικής Πλατφόρμας Αθλητικής Ακεραιότητας \nΜε την ετήσια εκδήλωση της Εθνικής Πλατφόρμας Αθλητικής Ακεραιότητας ολοκληρώθηκε η επιτυχημένη Εβδομάδα Αθλητικής Ακεραιότητας για την αντιμετώπιση της χειραγώγησης αγώνων\, που πραγματοποιήθηκε για πρώτη φορά στη χώρα μας με τη συμμετοχή του Συμβουλίου της Ευρώπης\, της Διεθνούς Ολυμπιακής Επιτροπής (ΔΟΕ) της UEFA\, της INTERPOL\, της ΕΠΑΘΛΑ\, της Ελληνικής Ποδοσφαιρικής Ομοσπονδίας (ΕΠΟ) και της Ελληνικής Ολυμπιακής Επιτροπής (ΕΟΕ). \nΠαρουσία του Αναπληρωτή Υπουργού Παιδείας\, Θρησκευμάτων και Αθλητισμού\, Γιάννη Βρούτση\, του Υπουργού Δικαιοσύνης\, Γιώργου Φλωρίδη\, του προέδρου της ΕΟΕ\, των Ευρωπαϊκών Ολυμπιακών Επιτροπών και μέλους της ΔΟΕ\, Σπύρου Καπράλου\, του προέδρου της Διεθνούς Ολυμπιακής Ακαδημίας\, Ισίδωρου Κούβελου\, της επικεφαλής του τομέα Αθλητισμού του Συμβουλίου της Ευρώπης\, Sophie Kwasny και εκπροσώπων της ΔΟΕ\, της INTERPOL\, της UEFA\, της ΕΠΑΘΛΑ\, της ΕΠΟ\, των Στοιχηματικών Εταιριών\, των Ομοσπονδιών\, των Συνδέσμων αθλητών κ.α.\, ο γγΑ και πρόεδρος της ΕΠΑΘΛΑ\, Γιώργος Μαυρωτάς\, προχώρησε στην παρουσίαση των πεπραγμένων της για το 2023. \nΕκτός από τις εκπαιδευτικές δράσεις\, τις συνεργασίες και τη διεθνή παρουσία στην οποία ανέφερε ότι ως Ελλάδα πρωταγωνιστούμε διεθνώς\, ο κ. Μαυρωτάς έκανε γνωστό ότι το 2023 και έως τώρα η ΕΠΑΘΛΑ εξέδωσε πορίσματα για 40 υποθέσεις και εννέα εξ αυτών προχώρησαν για περαιτέρω διερεύνηση (υποδεχόμενη συνολικά 105 αναφορές από διάφορες πηγές που αφορούσαν σε 14 αθλήματα).
URL:https://minsports.gov.gr/event/etisia-ekdilosi-tis-ethnikis-platformas-athlitikis-akeraiotitas/
LOCATION:ΕΛΛΗΝΙΚΗ ΟΛΥΜΠΙΑΚΗ ΕΠΙΤΡΟΠΗ\, Λεωφόρος Δημητρίου Βικέλα 52\, Χαλάνδρι\, ΑΤΤΙΚΗΣ\, 152 33\, Ελλάδα
CATEGORIES:Ε.Π.ΑΘΛ.Α.
ATTACH;FMTTYPE=image/jpeg:https://minsports.gov.gr/wp-content/uploads/2024/04/1geniki_vr_mavr-scaled.jpg
ORGANIZER;CN="%CE%95.%CE%A0.%CE%91%CE%98%CE%9B.%CE%91.":MAILTO:info@epathla.gov.gr
END:VEVENT
END:VCALENDAR