BEGIN:VCALENDAR
VERSION:2.0
PRODID:-//Υπουργείο Αθλητισμού - ECPv6.6.4.2//NONSGML v1.0//EN
CALSCALE:GREGORIAN
METHOD:PUBLISH
X-WR-CALNAME:Υπουργείο Αθλητισμού
X-ORIGINAL-URL:https://minsports.gov.gr
X-WR-CALDESC:Υπουργείο Αθλητισμού - Εκδηλώσεις
REFRESH-INTERVAL;VALUE=DURATION:PT1H
X-Robots-Tag:noindex
X-PUBLISHED-TTL:PT1H
BEGIN:VTIMEZONE
TZID:Europe/Athens
BEGIN:DAYLIGHT
TZOFFSETFROM:+0200
TZOFFSETTO:+0300
TZNAME:EEST
DTSTART:20250330T010000
END:DAYLIGHT
BEGIN:STANDARD
TZOFFSETFROM:+0300
TZOFFSETTO:+0200
TZNAME:EET
DTSTART:20251026T010000
END:STANDARD
END:VTIMEZONE
BEGIN:VEVENT
DTSTART;TZID=Europe/Athens:20250512T080000
DTEND;TZID=Europe/Athens:20250514T170000
DTSTAMP:20260423T001056
CREATED:20250506T152038Z
LAST-MODIFIED:20250506T152038Z
UID:31610-1747036800-1747242000@minsports.gov.gr
SUMMARY:1ο Πολυθεματικό Συνέδριο του ΥΠΑΙΘ Αθλητισμού
DESCRIPTION:Ο Αναπληρωτής Υπουργός Παιδείας\, Θρησκευμάτων και Αθλητισμού Γιάννης Βρούτσης και ο Γενικός Γραμματέας Αθλητισμού Γιώργος Μαυρωτάς σας προσκαλούν στο 1ο Πολυθεματικό Συνέδριο του ΥΠΑΙΘ τομέα Αθλητισμού\, το οποίο θα διεξαχθεί 12 έως και 14 Μαΐου 2025\, στην αίθουσα Ζακλίν Ντε Ρομιγύ του ΥΠΑΙΘΑ (Ανδρέα Παπανδρέου 37\, 15180\, Μαρούσι). \n  \nΗ πρώτη ημέρα του Συνεδρίου\, Δευτέρα 12 Μαΐου\, περιλαμβάνει συζητήσεις και ομιλίες επιστημόνων από τον χώρο της υγείας\, της ιατρικής\, της αθλητικής ψυχολογίας κ.α. με κύρια θεματική την ψυχική υγεία του αθλητή\, καθώς και εμπειρικά δεδομένα και βιωματικές εμπειρίες αθλητών υψηλού αγωνιστικού επιπέδου και προπονητών ως προς τη διαχείριση του στρες και τη θωράκιση της ψυχικής υγείας στον αθλητισμό. \n  \nΗ δεύτερη ημέρα\, Τρίτη 13 Μαΐου\,  ξεκινάει με τη θεματική της ασφάλειας και ευημερίας στον αθλητισμό και οι επόμενες ενότητες επικεντρώνονται στον εργασιακό αθλητισμό\, στις καλές πρακτικές των ΠΑγΟ και ΕΑγΟ και ολοκληρώνεται με την 3η ενότητα η οποία αφορά σε θέματα χρηστής διακυβέρνησης\, όπως η αξιολόγηση των αθλητικών ομοσπονδιών και σωματείων\, τα στρατηγικά σχέδια\,  η προώθηση της ισότητας των φύλων στον αθλητισμό και η εκπαίδευση των στελεχών των αθλητικών ομοσπονδιών για την εφαρμογή του κώδικα χρηστής διακυβέρνησης (workshop). \n  \nΤο 1ο Πολυθεματικό Συνέδριο στον Αθλητισμό ολοκληρώνεται την τρίτη ημέρα\, Τετάρτη 14 Μαΐου\, με κύρια θεματική τον επαγγελματικό προσανατολισμό νέων αθλητών και αθλητών υψηλού αγωνιστικού επιπέδου και περιλαμβάνει εισηγήσεις επιστημόνων ως προς τις νέες μορφές αθλητικής απασχόλησης\, την επιστημονική υποστήριξη στον αθλητισμό\, βιωματικές αναφορές αθλητών ως προς την επαγγελματική τους απασχόληση\, εισηγήσεις ως προς τη συνεχή αναβάθμιση και επανεκπαίδευση των αθλητών και των επαγγελματιών αθλητισμού\, επιμόρφωση των αθλητικών στελεχών σε διεθνή θέματα αθλητισμού  καθώς και εισηγήσεις για το Πρότυπο πιστοποίησης διακεκριμένων αθλητών και τη συμβολή τους στην προώθηση Αθλητικών Αξιών στα παιδιά\, μέσω προγραμμάτων ΔΗΜΗΤΡΙΟΣ ΒΙΚΕΛΑΣ του ΥΠΑΙΘΑ – τομέας Αθλητισμού.
URL:https://minsports.gov.gr/event/1o-polythematiko-synedrio-tou-ypaith-athlitismou/
LOCATION:ΥΠΟΥΡΓΕΙΟ ΠΑΙΔΕΙΑΣ\, ΘΡΗΣΚΕΥΜΑΤΩΝ ΚΑΙ ΑΘΛΗΤΙΣΜΟΥ\, ΑΝΔΡΕΑ ΠΑΠΑΝΔΡΕΟΥ 37\, ΜΑΡΟΥΣΙ\, ΑΤΤΙΚΗΣ\, 15180\, Ελλάδα
ATTACH;FMTTYPE=image/jpeg:https://minsports.gov.gr/wp-content/uploads/2025/05/πρόσκληση-συνεδρίου.jpg
ORGANIZER;CN="%CE%93%CE%95%CE%9D%CE%99%CE%9A%CE%97 %CE%93%CE%A1%CE%91%CE%9C%CE%9C%CE%91%CE%A4%CE%95%CE%99%CE%91 %CE%91%CE%98%CE%9B%CE%97%CE%A4%CE%99%CE%A3%CE%9C%CE%9F%CE%A5":MAILTO:sitegga@gga.gov.g r
END:VEVENT
BEGIN:VEVENT
DTSTART;VALUE=DATE:20250529
DTEND;VALUE=DATE:20250530
DTSTAMP:20260423T001056
CREATED:20250528T105310Z
LAST-MODIFIED:20250528T105310Z
UID:31891-1748476800-1748563199@minsports.gov.gr
SUMMARY:2η Ετήσια Έκθεση του "e-kouros"
DESCRIPTION:E-KOUROS 2025 \nΈνα χρόνο μετά την παρουσίαση της πρώτης Έκθεσης του e-Κouros\, η 2η Έκθεση είναι πλέον γεγονός! Με την ψηφιακή καταγραφή όλων των στοιχείων του ελληνικού αθλητισμού για το 2024 και με συγκριτικά μεγέθη για το 2023: Ομοσπονδίες\, αθλήματα\, αθλητικό δυναμικό\, προπονητές και φέτος για πρώτη φορά όλες οι αθλητικές εγκαταστάσεις. Η παρουσίαση του e-Kouros II\, θα γίνει από τον αναπληρωτή Υπουργό Αθλητισμού\, Γιάννη Βρούτση\, την Πέμπτη\, 29 Μαΐου 2025 και ώρα 11:30 στο Ολυμπιακό Ποδηλατοδρόμιο – ΟΑΚΑ.
URL:https://minsports.gov.gr/event/2i-etisia-ekthesi-tou-e-kouros/
LOCATION:Ο.Α.Κ.Α. Ολυμπιακό Ποδηλατοδρόμιο\, Κηφισίας 37\, Αθήνα 151 23\, ΜΑΡΟΥΣΙ\, ΑΤΤΙΚΗΣ\, 15123\, Greece
ATTACH;FMTTYPE=image/jpeg:https://minsports.gov.gr/wp-content/uploads/2025/05/e-kouros.jpeg
ORGANIZER;CN="%CE%A5%CE%A0%CE%9F%CE%A5%CE%A1%CE%93%CE%95%CE%99%CE%9F %CE%A0%CE%91%CE%99%CE%94%CE%95%CE%99%CE%91%CE%A3%2C %CE%98%CE%A1%CE%97%CE%A3%CE%9A%CE%95%CE%A5%CE%9C%CE%91%CE%A4%CE%A9%CE%9D %CE%9A%CE%91%CE%99 %CE%91%CE%98%CE%9B%CE%97%CE%A4%CE%99%CE%A3%CE%9C%CE%9F%CE%A5":MAILTO:sitegga@gga.gov.g r
END:VEVENT
END:VCALENDAR