BEGIN:VCALENDAR
VERSION:2.0
PRODID:-//Υπουργείο Αθλητισμού - ECPv6.6.4.2//NONSGML v1.0//EN
CALSCALE:GREGORIAN
METHOD:PUBLISH
X-ORIGINAL-URL:https://minsports.gov.gr
X-WR-CALDESC:Υπουργείο Αθλητισμού - Εκδηλώσεις
REFRESH-INTERVAL;VALUE=DURATION:PT1H
X-Robots-Tag:noindex
X-PUBLISHED-TTL:PT1H
BEGIN:VTIMEZONE
TZID:Europe/Athens
BEGIN:DAYLIGHT
TZOFFSETFROM:+0200
TZOFFSETTO:+0300
TZNAME:EEST
DTSTART:20240331T010000
END:DAYLIGHT
BEGIN:STANDARD
TZOFFSETFROM:+0300
TZOFFSETTO:+0200
TZNAME:EET
DTSTART:20241027T010000
END:STANDARD
END:VTIMEZONE
BEGIN:VEVENT
DTSTART;VALUE=DATE:20240321
DTEND;VALUE=DATE:20240322
DTSTAMP:20260423T062940
CREATED:20240410T131449Z
LAST-MODIFIED:20240410T131532Z
UID:26783-1710979200-1711065599@minsports.gov.gr
SUMMARY:Παρουσίαση της πρωτοποριακής ηλεκτρονικής Ψηφιακής Πλατφόρμας “e-Kouros”
DESCRIPTION:Το «όραμα» του Αναπληρωτή Υπουργού Αθλητισμού\, Γιάννη Βρούτση\, για την πλήρη ψηφιοποίηση του ελληνικού Αθλητισμού\, υλοποιήθηκε με την παρουσίαση του «e-Κouros»\, της πρώτης ολοκληρωμένης ψηφιακής παρέμβασης στον χώρο του ελληνικού Αθλητισμού. \nΜε την αποτύπωση πλήθος δεδομένων και μετρήσιμων μεγεθών\, για κάθε πτυχή του ερασιτεχνικού και επαγγελματικού αθλητισμού\, το «e-Kouros» θα αποτελέσει\, βάσει των συγκρίσιμων μοντέλων\, χρήσιμο εργαλείο στρατηγικού σχεδιασμού και χάραξης πολιτικών για την αθλητική ηγεσία (ενδυνάμωση περιοχών που υπολείπονται σε μεγέθη αθλητικής δραστηριότητας\, ανάπτυξη υποδομών κλπ). \nΠαράλληλα\, θα διευκολύνει τους αθλητικούς φορείς (Ομοσπονδίες\, Ενώσεις\, Σωματεία\, Αθλητικό Δυναμικό\, Προπονητές) και τους απλούς πολίτες\, που θα μπορούν εύκολα και γρήγορα να έχουν πρόσβαση σε κάθε πληροφορία για τον αθλητισμό στην περιοχή τους. \nΗ ολοκλήρωση του Ψηφιακού Μετασχηματισμού\, με την αποτύπωση του συνόλου των στοιχείων\, που θα είναι ελεύθερα και δωρεάν προσβάσιμα σε όλους\, περιλαμβάνει επτά άξονες: \n* Στρατηγική Ανάπτυξη Δεδομένων \n* Ασφαλείς Αθλητικές Εγκαταστάσεις\, \n* Υπηρεσίες στον πολίτη – «MyKouros App» \n* Μείωση Διοικητικού Βάρους για τα Σωματεία\, τις Ενώσεις και τις Ομοσπονδίες \n* Επαγγελματικός Αθλητισμός και Επιτροπές \n* Οργάνωση και Διαφάνεια στη Διαχείριση των Πόρων \n* Χρηστή Διακυβέρνηση
URL:https://minsports.gov.gr/event/parousiasi-tis-protoporiakis-ilektronikis-psifiakis-platformas-e-kouros/
LOCATION:ΥΠΟΥΡΓΕΙΟ ΠΑΙΔΕΙΑΣ\, ΘΡΗΣΚΕΥΜΑΤΩΝ ΚΑΙ ΑΘΛΗΤΙΣΜΟΥ\, ΑΝΔΡΕΑ ΠΑΠΑΝΔΡΕΟΥ 37\, ΜΑΡΟΥΣΙ\, ΑΤΤΙΚΗΣ\, 15180\, Ελλάδα
CATEGORIES:Υ.ΠΑΙ.Θ.Α.
ATTACH;FMTTYPE=image/jpeg:https://minsports.gov.gr/wp-content/uploads/2024/04/photo1_21-3-24-1-1024x695-1.jpg
ORGANIZER;CN="%CE%A5%CE%A0%CE%9F%CE%A5%CE%A1%CE%93%CE%95%CE%99%CE%9F %CE%A0%CE%91%CE%99%CE%94%CE%95%CE%99%CE%91%CE%A3%2C %CE%98%CE%A1%CE%97%CE%A3%CE%9A%CE%95%CE%A5%CE%9C%CE%91%CE%A4%CE%A9%CE%9D %CE%9A%CE%91%CE%99 %CE%91%CE%98%CE%9B%CE%97%CE%A4%CE%99%CE%A3%CE%9C%CE%9F%CE%A5":MAILTO:sitegga@gga.gov.g r
END:VEVENT
BEGIN:VEVENT
DTSTART;VALUE=DATE:20240329
DTEND;VALUE=DATE:20240330
DTSTAMP:20260423T062940
CREATED:20240410T132522Z
LAST-MODIFIED:20240410T132522Z
UID:26790-1711670400-1711756799@minsports.gov.gr
SUMMARY:Ετήσια εκδήλωση βράβευσης του #BeActiveHellas
DESCRIPTION:Το ευρωπαϊκό πρόγραμμα #BEACTIVE που υλοποιείται από το Υπουργείο Αθλητισμού τα τελευταία εννέα χρόνια με μεγάλη επιτυχία\, πραγματοποίησε σήμερα την ετήσια εκδήλωση βράβευσης των συμμετεχόντων φορέων για το 2023. Παράλληλα\, υπεγράφη Μνημόνιο Συνεργασίας της Οργανωτικής Επιτροπής του #BeActiveHellas με το Ολυμπιακό Μουσείο Θεσσαλονίκης. \nΤο #BeActiveHellas που πλέον έχει καθιερωθεί και αναπτύσσεται κάθε χρόνο όλο και περισσότερο\, υλοποίησε τη χρονιά που μας πέρασε 1.390 δράσεις (έναντι 900 το 2022) με 253.000 συμμετέχοντες σε 41 αθλήματα σε όλη την Ελλάδα. \nΣτο πρόγραμμα που αποσκοπεί στην προαγωγή της αθλητικής δραστηριότητας και της σωματικής άσκησης\, ανεξαρτήτου ηλικίας\, φύλου και φυσικής κατάστασης\, συμμετείχαν τη χρονιά που μας πέρασε 102 φορείς οι οποίοι βραβεύτηκαν στην εκδήλωση για την πλούσια δραστηριότητα που ανέπτυξαν στο πλαίσιο της Ευρωπαϊκής Εβδομάδας Αθλητισμού.
URL:https://minsports.gov.gr/event/etisia-ekdilosi-vravefsis-tou-beactivehellas/
LOCATION:ΥΠΟΥΡΓΕΙΟ ΠΑΙΔΕΙΑΣ\, ΘΡΗΣΚΕΥΜΑΤΩΝ ΚΑΙ ΑΘΛΗΤΙΣΜΟΥ\, ΑΝΔΡΕΑ ΠΑΠΑΝΔΡΕΟΥ 37\, ΜΑΡΟΥΣΙ\, ΑΤΤΙΚΗΣ\, 15180\, Ελλάδα
CATEGORIES:#BEACTIVE
ATTACH;FMTTYPE=image/jpeg:https://minsports.gov.gr/wp-content/uploads/2024/04/beactive2-29-3-24-1024x695-1.jpg
ORGANIZER;CN="#BeActiveHellas":MAILTO:BeActiveHellas@gga.gov.gr
END:VEVENT
END:VCALENDAR