BEGIN:VCALENDAR
VERSION:2.0
PRODID:-//Υπουργείο Αθλητισμού - ECPv6.6.4.2//NONSGML v1.0//EN
CALSCALE:GREGORIAN
METHOD:PUBLISH
X-ORIGINAL-URL:https://minsports.gov.gr
X-WR-CALDESC:Υπουργείο Αθλητισμού - Εκδηλώσεις
REFRESH-INTERVAL;VALUE=DURATION:PT1H
X-Robots-Tag:noindex
X-PUBLISHED-TTL:PT1H
BEGIN:VTIMEZONE
TZID:Europe/Athens
BEGIN:DAYLIGHT
TZOFFSETFROM:+0200
TZOFFSETTO:+0300
TZNAME:EEST
DTSTART:20240331T010000
END:DAYLIGHT
BEGIN:STANDARD
TZOFFSETFROM:+0300
TZOFFSETTO:+0200
TZNAME:EET
DTSTART:20241027T010000
END:STANDARD
BEGIN:DAYLIGHT
TZOFFSETFROM:+0200
TZOFFSETTO:+0300
TZNAME:EEST
DTSTART:20250330T010000
END:DAYLIGHT
BEGIN:STANDARD
TZOFFSETFROM:+0300
TZOFFSETTO:+0200
TZNAME:EET
DTSTART:20251026T010000
END:STANDARD
BEGIN:DAYLIGHT
TZOFFSETFROM:+0200
TZOFFSETTO:+0300
TZNAME:EEST
DTSTART:20260329T010000
END:DAYLIGHT
BEGIN:STANDARD
TZOFFSETFROM:+0300
TZOFFSETTO:+0200
TZNAME:EET
DTSTART:20261025T010000
END:STANDARD
END:VTIMEZONE
BEGIN:VEVENT
DTSTART;TZID=Europe/Athens:20240923T080000
DTEND;TZID=Europe/Athens:20240930T200000
DTSTAMP:20260423T015045
CREATED:20240925T095604Z
LAST-MODIFIED:20240925T101002Z
UID:29166-1727078400-1727726400@minsports.gov.gr
SUMMARY:ΕΥΡΩΠΑΪΚΗ ΕΒΔΟΜΑΔΑ ΑΘΛΗΤΙΣΜΟΥ - Πανελλαδική Σχολική Σκυταλοδρομία 2024 -  «Τρέχω για το ΣΥΝ»
DESCRIPTION:ΥΠΟΥΡΓΕΙΟ ΠΑΙΔΕΙΑΣ ΘΡΗΣΚΕΥΜΑΤΩΝ & ΑΘΛΗΤΙΣΜΟΥ \nΕΛΛΗΝΙΚΗ ΟΛΥΜΠΙΑΚΗ ΕΠΙΤΡΟΠΗ-ΕΘΝΙΚΗ ΟΛΥΜΠΙΑΚΗ ΑΚΑΔΗΜΙΑ \nΕΥΡΩΠΑΪΚΟ ΠΡΟΓΡΑΜΜΑ BEACTIVE HELLAS  \n  \nΕΥΡΩΠΑΪΚΗ ΕΒΔΟΜΑΔΑ ΑΘΛΗΤΙΣΜΟΥ \nΠανελλαδική Σχολική Σκυταλοδρομία 2024 \n «Τρέχω για το ΣΥΝ» \nΜετά την επιτυχημένη διεξαγωγή της πανελλαδικής σχολικής σκυταλοδρομίας «Τρέχω για το ΕΥ» του προηγούμενου έτους και στο πλαίσιο της Ευρωπαϊκής Εβδομάδας Αθλητισμού\, η οποία διεξάγεται από 23-30 Σεπτεμβρίου 2024\, καλούμε τις σχολικές μονάδες της Πρωτοβάθμιας και Δευτεροβάθμιας Εκπαίδευσης (δημοτικά\, γυμνάσια και λύκεια) όλης της χώρας να συμμετάσχουν και φέτος στη δεύτερη\, κατά σειρά\, Πανελλαδική Σχολική Σκυταλοδρομία. \nΜε κεντρικό σύνθημα της φετινής Πανελλαδικής Σχολικής Σκυταλοδρομίας το «Τρέχω για το ΣΥΝ»\, προσκαλούμε τους μαθητές και τις μαθήτριες να επιλέξουν ένα από τα ΣΥΝ: ΣΥΝεργασία –  ΣΥΝεννόηση – ΣΥΝύπαρξη – ΣΥΝαδέλφωση – ΣΥΝθεση και να τρέξουν μία συμβολική διαδρομή\, υποστηρίζοντας με τη συμμετοχή τους τη δράση. \nΜε γνώμονα τη συμβολή όλων των εμπλεκόμενων φορέων στην προαγωγή της φυσικής δραστηριότητας\, η Πανελλαδική Σχολική Σκυταλοδρομία διεξάγεται για δεύτερη φορά με σκοπό να μεταλαμπαδεύσει στα παιδιά τη σπουδαιότητα του Ευ Αγωνίζεσθαι\, της ευγενούς άμιλλας\, της συμμετοχής και της ομαδικότητας\, καθώς και όλες τις Ολυμπιακές Αξίες που πρεσβεύει ο αθλητισμός και που συμβάλλουν τα μέγιστα στη βελτίωση της κοινωνίας μας. \nΚατά το φετινό έτος\, τα παιδιά τρέχουν για να υπενθυμίσουν σε όλους μας ότι το ΣΥΝ (ΣΥΝεργασία -ΣΥΝεννόηση – ΣΥΝύπαρξη – ΣΥΝαδέλφωση – ΣΥΝθεση) είναι η επιδιωκόμενη στάση ΖΩΗΣ που μέσα από τις αξίες του αθλητισμού\, πρέπει να κατακτάται με προσπάθεια\, στοχοπροσήλωση και ηθική ακεραιότητα. \nΧώρος ανάπτυξης δράσης: Προαύλιο\, κλειστό ή ανοιχτό γυμναστήριο\, κοντινό άλσος ή οποιοσδήποτε ασφαλής διαθέσιμος χώρος. \nΣυμμετοχή στη διαδικασία βράβευσης: Οι σχολικές μονάδες που θα συμμετάσχουν στην Πανελλαδική Σχολική Σκυταλοδρομία «Τρέχω για το ΣΥΝ» έχουν δικαίωμα συμμετοχής στη διαδικασία βράβευσης των δράσεων\, σε μία από τις κάτωθι κατηγορίες: \n\nΈνα (1) motto για την Ευρωπαϊκή Εβδομάδα Αθλητισμού (μέχρι 10 λέξεις).\nΔύο (2) χαρακτηριστικές για τη δράση φωτογραφίες (φωτογράφιση σε “οριζόντια διάταξη”).\nΈνα (1) video διάρκειας μέχρι ένα (1) λεπτό της ώρας (βιντεοσκόπηση σε “οριζόντια διάταξη”).\nΈνα (1) εικαστικό πανό (ενδεικτικές διαστάσεις: μήκος 2μ. ύψος 1μ.) στο οποίο θα αναγράφονται τα μηνύματα (λεκτικά-εικαστικά) που στέλνουν τα παιδιά του σχολείου σε όλα τα παιδιά της επικράτειας. Το ανωτέρω πανό θα αποσταλεί σε φωτογραφία στην Επιτροπή Αξιολόγησης.\n\nΓια τους σκοπούς προβολής των συμμετεχουσών σχολικών μονάδων στη δράση\, οι φορείς διοργάνωσης έχουν δημιουργήσει έναν ψηφιακό/διαδραστικό χάρτη στον ιστότοπο https://beactive.hoa.org.gr/ και για την εμφάνιση του σχολείου στον χάρτη είναι αναγκαία η αποστολή Δελτίου Τύπου\, από το συμμετέχον σχολείο\, με συνοπτική περιγραφή της δράσης (έως 100 λέξεις) και συνοδευόμενο από φωτογραφία του σχολείου. \n Καταληκτική ημερομηνία αποστολής συμμετοχών υποψήφιων για βράβευση:  \nΠαρασκευή 11 Οκτωβρίου 2024. \n\nΒραβεύσεις \nΑ. Σε όλες τις σχολικές μονάδες που θα συμμετάσχουν στην Πανελλαδική Σχολική Σκυταλοδρομία «Τρέχω για το ΣΥΝ» θα αποσταλεί ψηφιακό αναμνηστικό δίπλωμα. \nB. Οι δώδεκα (12) βραβεύσεις (3 βραβεία για κάθε κατηγορία) θα αποδοθούν με τα εξής κριτήρια: \n\nΚαλύτερο motto\nΚαλύτερη φωτογραφία\nΚαλύτερο οπτικοακουστικό υλικό (video)\nΚαλύτερο εικαστικό πανό\n\nΣτις σχολικές μονάδες που θα βραβευθούν για τη συμμετοχή τους στη δράση\, με βάση τα ως άνω κριτήρια\, θα απονεμηθούν τα εξής βραβεία (σε περίπτωση ισοβαθμίας\, θα διεξαχθεί κλήρωση): \n\nΠρώτο βραβείο σε κάθε κατηγορία:\n\nΣυμμετοχή σε «Συνέντευξη Τύπου» με Έλληνες και Ελληνίδες Ολυμπιονίκες: \nΟι τέσσερις (4) σχολικές μονάδες που θα βραβευθούν με το πρώτο βραβείο σε κάθε κατηγορία θα έχουν τη δυνατότητα να συμμετάσχουν σε  «Συνέντευξη Τύπου» με αθλητές και αθλήτριες Ολυμπιονίκες\, η οποία θα λάβει χώρα στο κτίριο της Ελληνικής Ολυμπιακής Επιτροπής. \n\nΔεύτερο βραβείο σε κάθε κατηγορία:\n\nΕνημερωτική Επίσκεψη/ξενάγηση στο ΟΑΚΑ και στο Ολυμπιακό Μουσείο Αθήνας: \nΟι τέσσερις (4) σχολικές μονάδες που θα βραβευθούν με το δεύτερο βραβείο σε κάθε κατηγορία\, θα έχουν τη δυνατότητα να πραγματοποιήσουν ενημερωτική επίσκεψη/ξενάγηση στο Ολυμπιακό Αθλητικό Κέντρο Αθήνας ΟΑΚΑ «Σπύρος Λούης» και στο Ολυμπιακό Μουσείο Αθήνας. \n\nΤρίτο βραβείο σε κάθε κατηγορία:\n\nΕπίσκεψη στο Παναθηναϊκό Στάδιο και συμμετοχή στο Πρόγραμμα «Αγαπώ τον αθλητισμό-Kid’s athletics»: \nΟι τέσσερις (4) σχολικές μονάδες που θα βραβευθούν με το τρίτο βραβείο σε κάθε κατηγορία  θα έχουν τη δυνατότητα να λάβουν μέρος στο Πρόγραμμα «Αγαπώ τον αθλητισμό-Kid’s athletics» που διεξάγεται στο Παναθηναϊκό Στάδιο. \n Αριθμός μαθητών/μαθητριών από κάθε σχολική μονάδα: έως 50 μαθητές/μαθήτριες \nΣας γνωρίζουμε ότι στην Επιτροπή Αξιολόγησης των βραβεύσεων θα συμμετάσχουν Ολυμπιονίκες και διακεκριμένοι/ες αθλητές/τριες. \nΤα αποτελέσματα της Επιτροπής Αξιολόγησης αναφορικά με τις σχολικές μονάδες οι οποίες θα λάβουν μέρος στη βράβευση θα αναρτηθούν την Τετάρτη 13 Νοεμβρίου 2024 στην ιστοσελίδα της Γενικής Γραμματείας Αθλητισμού του Υ.ΠΑΙ.Θ.Α.   https://minsports.gov.gr/  και στην ιστοσελίδα της ΕΘΝΟΑ  (https://beactive.hoa.org.gr/) \nΗ δια ζώσης απονομή των βραβείων στις σχολικές μονάδες θα πραγματοποιηθεί την Τρίτη 10 Δεκεμβρίου 2024 και ώρα 12.00 σε αίθουσα του Υπουργείου Παιδείας\, Θρησκευμάτων και Αθλητισμού (Α. Παπανδρέου 37\, ΤΚ 15180\, Μαρούσι). \nΣε περίπτωση που βραβευθείσα σχολική μονάδα δεν μπορέσει να παρευρεθεί\, λόγω ειδικών συνθηκών (π.χ. σχολείο σε απομακρυσμένη περιοχή\, έκτακτες καιρικές συνθήκες κ.α.)\, στην ως άνω εκδήλωση\, θα διερευνηθεί το ενδεχόμενο διαδικτυακής συμμετοχής της. \nΓια τυχόν διευκρινίσεις\, παρακαλούμε να επικοινωνήσετε με την κάτωθι διεύθυνση: beactivenow2024@gmail.com (αναγράφοντας τα στοιχεία της οικείας σχολικής μονάδας\, το ονοματεπώνυμο του/της εκπαιδευτικού και το τηλέφωνο επικοινωνίας). \nΕκ μέρους των διοργανωτών\, σας ευχαριστούμε για τη συμμετοχή σας στην Πανελλαδική Σχολική Σκυταλοδρομία «Τρέχω για το ΣΥΝ» 2024 και σας ευχόμαστε καλή επιτυχία! \n 
URL:https://minsports.gov.gr/event/evropaiki-evdomada-athlitismou-panelladiki-scholiki-skytalodromia-2024-trecho-gia-to-syn/
LOCATION:ΑΤΤΙΚΗΣ
CATEGORIES:#BEACTIVE
ATTACH;FMTTYPE=image/jpeg:https://minsports.gov.gr/wp-content/uploads/2024/09/treho_gia_to_SYN_visual_web-min-1.jpg
END:VEVENT
BEGIN:VEVENT
DTSTART;VALUE=DATE:20241024
DTEND;VALUE=DATE:20241025
DTSTAMP:20260423T015045
CREATED:20241031T070202Z
LAST-MODIFIED:20241031T070207Z
UID:29580-1729728000-1729814399@minsports.gov.gr
SUMMARY:Σεμινάριο ΕΠΑΘΛΑ-Sportradar σε Ομοσπονδίες και Ενώσεις για την ανάλυση και διερεύνηση υποθέσεων χειραγώγησης αγώνων
DESCRIPTION:Με πρωτοβουλία της Εθνικής Πλατφόρμας Αθλητικής Ακεραιότητας και τη συνεργασία της Sportradar πραγματοποιήθηκε στο Υπουργείο Αθλητισμού\, την Πέμπτη (24-10-24)\, σεμινάριο με αντικείμενο την ανάλυση και διερεύνηση υποθέσεων χειραγώγησης αγώνων\, παρουσία του αναπλ. Υπουργού Αθλητισμού\, Γιάννη Βρούτση και του γγΑ και προέδρου της ΕΠΑΘΛΑ\, Γιώργου Μαυρωτά. \nΜε τη συμμετοχή του αθλητικού εισαγγελέα\, Κωνσταντίνου Σπυρόπουλου\, του Αστυνόμου Β\, Ιωάννη Ιακωβίδη\, στελεχών της Αρχής Καταπολέμησης Νομιμοποίησης Εσόδων από Εγκληματικές Δραστηριότητες\, της ΕΠΑΘΛΑ\, εκπροσώπων Ομοσπονδιών ομαδικών αθλημάτων και διοργανωτριών αρχών\, αναπτύχθηκαν από τα στελέχη της Sportradar Andrew Whitingham\, Adam Francis και Kay Leverton\, θεματικές σχετικά με: \n\nτον αθλητικό στοιχηματισμό\,\nτη δομή και τις πληροφορίες που περιέχονται στις εκθέσεις της Sportradar\,\nτην άντληση πληροφοριών\,\nτη στοιχειοθέτηση των υποθέσεων\,\nτην εκπαίδευση για την αντιμετώπιση της χειραγώγησης αγώνων.\n\nΣτο δεύτερο μέρος υπήρξε ενότητα σχετική με «μελέτες περίπτωσης» (case studies)\, με τον Αστυνόμο Β\, Ιωάννη Ιακωβίδη\, να καταθέτει την εμπειρία του για περιπτώσεις που αφορούν το φαινόμενο της χειραγώγησης και στη χώρα μας. \nΣτον χαιρετισμό του ο αναπληρωτής Υπουργός Αθλητισμού\, Γιάννης Βρούτσης\, ανέφερε πως «τα θέματα ηθικής και ακεραιότητας στον Αθλητισμό αποτελούν ύψιστη προτεραιότητα της πολιτικής μας και οι δράσεις της Εθνικής Πλατφόρμας Αθλητικής Ακεραιότητας\, βασικό εργαλείο επίτευξης των στόχων μας». \nΣτη συνέχεια\, εστίασε στο έργο της πλατφόρμας\, τονίζοντας πως: «αποτελεί πλέον μία αναγνωρίσιμη καλή διεθνή πρακτική για πολλές χώρες\, έχοντας να επιδείξει ήδη μεγάλη δραστηριότητα στους τρόπους καταπολέμησης των χειραγωγημένων αγώνων. \nΜε την ευκαιρία θα ήθελα να συγχαρώ τον πρόεδρο της και γ.γ. Αθλητισμού\, Γιώργο Μαυρωτά για την εξαιρετική δουλειά που γίνεται σε όλα τα επίπεδα και την εύρυθμη λειτουργία της ΕΠΑΘΛΑ σε εθνικό και διεθνές επίπεδο. \nΣπουδαίος σύμμαχος της ΕΠΑΘΛΑ είναι η Sportradar\, με τις δύο δομές να  βρίσκονται σε διαρκή συνεργασία για την καταπολέμηση των χειραγωγημένων αγώνων με ανταλλαγή πληροφοριών και παροχή τεχνογνωσίας.\nΟι εκπαιδευτικές δράσεις σαν τη σημερινή ενισχύουν τον ρόλο τους και δημιουργούν κατηρτισμένα στελέχη απαραίτητα στη διαρκή μάχη μας με τους χειραγωγούμενους αγώνες σε όλα τα αθλήματα. \nΕμπλουτίζουμε τα εργαλεία μας για την ανάλυση των δεδομένων μας\, ενώ παράλληλα χτίζουμε ένα πλαίσιο ενημέρωσης και ευαισθητοποίησης του κοινού\, των αθλητών\, των προπονητών και των παραγόντων του αθλητισμού.\nΕίμαι βέβαιος ότι οι άοκνες προσπάθειες που γίνονται για την καταπολέμηση της μάστιγας του στοιχηματισμού\, θα αποφέρουν καρπούς». \nΟ γγΑ και Πρόεδρος της ΕΠΑΘΛΑ\, Γιώργος Μαυρωτάς στην εισαγωγική του τοποθέτηση μίλησε για τις σύγχρονες τάσεις σε διεθνές και εθνικό επίπεδο στην αντιμετώπιση της χειραγώγησης αγώνων. Παράλληλα ανέφερε τους λόγους που έχει αναδειχθεί τα τελευταία χρόνια το φαινόμενο της χειραγώγησης αγώνων: \n«Η χειραγώγηση των αγώνων δηλητηριάζει την πεμπτουσία του Αθλητισμού και ένας δεύτερος -πολύ σημαντικός παράγοντας- είναι ότι ο στοιχηματισμός έχει ανέβει πολύ τα τελευταία χρόνια\, λόγω του διαδικτύου.\nΠλέον οποιοσδήποτε από οποιαδήποτε χώρα\, από οποιαδήποτε αγορά\, μπορεί να στοιχηματίσει. Για το οργανωμένο έγκλημα η χειραγώγηση των αγώνων είναι μια δραστηριότητα χαμηλού ρίσκου και υψηλών αποδόσεων γι’ αυτό σε πολλές περιπτώσεις κρύβεται πίσω το οργανωμένο έγκλημα. Και επίσης είναι ένα πρόβλημα το οποίο η αθλητική κοινότητα δεν μπορεί να δώσει λύση από μόνη της\, αλλά χρειάζεται συνέργειες\, όλων των φορέων: Κράτος\, αθλητικό κίνημα\, αστυνομικές αρχές\, στοιχηματικό οικοσύστημα\, διακυβερνητικές οργανώσεις».Σ ΣΤΟΙΧΗΜΑΤΙΣΜΟΣ
URL:https://minsports.gov.gr/event/seminario-epathla-sportradar-se-omospondies-kai-enoseis-gia-tin-analysi-kai-dierevnisi-ypotheseon-cheiragogisis-agonon/
LOCATION:ΥΠΟΥΡΓΕΙΟ ΠΑΙΔΕΙΑΣ\, ΘΡΗΣΚΕΥΜΑΤΩΝ ΚΑΙ ΑΘΛΗΤΙΣΜΟΥ\, ΑΝΔΡΕΑ ΠΑΠΑΝΔΡΕΟΥ 37\, ΜΑΡΟΥΣΙ\, ΑΤΤΙΚΗΣ\, 15180\, Ελλάδα
CATEGORIES:Ε.Π.ΑΘΛ.Α.
ATTACH;FMTTYPE=image/jpeg:https://minsports.gov.gr/wp-content/uploads/2024/10/PHOTO1-768x521-1.jpg
ORGANIZER;CN="%CE%95.%CE%A0.%CE%91%CE%98%CE%9B.%CE%91.":MAILTO:info@epathla.gov.gr
END:VEVENT
BEGIN:VEVENT
DTSTART;TZID=Europe/Athens:20241205T000000
DTEND;TZID=Europe/Athens:20241205T150000
DTSTAMP:20260423T015045
CREATED:20241114T133536Z
LAST-MODIFIED:20241114T133536Z
UID:29769-1733356800-1733410800@minsports.gov.gr
SUMMARY:Τελετή απονομής βραβεύσεων για την Πανελλαδική Σχολική Σκυταλοδρομία «Τρέχω για το ΣΥΝ» 2024
DESCRIPTION:Στις 5/12/24 θα πραγματοποιηθεί η τελετή απονομής βραβεύσεων των σχολικών μονάδων για την Πανελλαδική Σχολική Σκυταλοδρομία «Τρέχω για το ΣΥΝ» 2024\, στην αίθουσα “Jacqueline de Romilly” του Υ.ΠΑΙ.Θ.Α.
URL:https://minsports.gov.gr/event/teleti-aponomis-vravefseon-gia-tin-panelladiki-scholiki-skytalodromia-trecho-gia-to-syn-2024/
LOCATION:ΥΠΟΥΡΓΕΙΟ ΠΑΙΔΕΙΑΣ\, ΘΡΗΣΚΕΥΜΑΤΩΝ ΚΑΙ ΑΘΛΗΤΙΣΜΟΥ\, ΑΝΔΡΕΑ ΠΑΠΑΝΔΡΕΟΥ 37\, ΜΑΡΟΥΣΙ\, ΑΤΤΙΚΗΣ\, 15180\, Ελλάδα
ATTACH;FMTTYPE=image/jpeg:https://minsports.gov.gr/wp-content/uploads/2024/11/treho_gia_to_SYN_visual_web-min.jpg
ORGANIZER;CN="%CE%A5%CE%A0%CE%9F%CE%A5%CE%A1%CE%93%CE%95%CE%99%CE%9F %CE%A0%CE%91%CE%99%CE%94%CE%95%CE%99%CE%91%CE%A3%2C %CE%98%CE%A1%CE%97%CE%A3%CE%9A%CE%95%CE%A5%CE%9C%CE%91%CE%A4%CE%A9%CE%9D %CE%9A%CE%91%CE%99 %CE%91%CE%98%CE%9B%CE%97%CE%A4%CE%99%CE%A3%CE%9C%CE%9F%CE%A5":MAILTO:sitegga@gga.gov.g r
END:VEVENT
BEGIN:VEVENT
DTSTART;TZID=Europe/Athens:20241217T120000
DTEND;TZID=Europe/Athens:20241217T133000
DTSTAMP:20260423T015045
CREATED:20241216T130205Z
LAST-MODIFIED:20241216T134017Z
UID:30109-1734436800-1734442200@minsports.gov.gr
SUMMARY:Live Streaming της παρουσίασης του νέου αναμορφωτικού μέτρου "Ένταξη Ανήλικων με Ήπια Παραβατικότητα σε Ερασιτεχνικά Αθλητικά Σωματεία"
DESCRIPTION:Παρακολουθήστε την παρουσίαση του νέου αναμορφωτικού μέτρου “Ένταξη Ανηλίκων με Ήπια Παραβατικότητα σε Ερασιτεχνικά Αθλητικά Σωματεία”\,  στο κανάλι ”ΥΠΑΙΘ Αθλητισμού – Γενική Γραμματεία Αθλητισμού”\nΤρίτη 17 Δεκεμβρίου 2024 και ώρα 12:00-13:30. Η εκδήλωση θα πραγματοποιηθεί στην αίθουσα τύπου κεντρικού σταδίου Ο.Α.Κ.Α. (είσοδος από πύλη Α).
URL:https://minsports.gov.gr/event/live-streaming-tis-parousiasis-tou-neou-anamorfotikou-metrou-entaxi-anilikon-me-ipia-paravatikotita-se-erasitechnika-athlitika-somateia/
LOCATION:Ο.Α.Κ.Α.\, Λεωφ. Ολυμπιονίκου Σπύρου Λούη 1\, ΑΘΗΝΑ\, ΜΑΡΟΥΣΙ\, 151 23\, Ελλάδα
ATTACH;FMTTYPE=image/jpeg:https://minsports.gov.gr/wp-content/uploads/2024/12/a.jpeg
ORGANIZER;CN="%CE%A5%CE%A0%CE%9F%CE%A5%CE%A1%CE%93%CE%95%CE%99%CE%9F %CE%A0%CE%91%CE%99%CE%94%CE%95%CE%99%CE%91%CE%A3%2C %CE%98%CE%A1%CE%97%CE%A3%CE%9A%CE%95%CE%A5%CE%9C%CE%91%CE%A4%CE%A9%CE%9D %CE%9A%CE%91%CE%99 %CE%91%CE%98%CE%9B%CE%97%CE%A4%CE%99%CE%A3%CE%9C%CE%9F%CE%A5":MAILTO:sitegga@gga.gov.g r
END:VEVENT
BEGIN:VEVENT
DTSTART;TZID=Europe/Athens:20250512T080000
DTEND;TZID=Europe/Athens:20250514T170000
DTSTAMP:20260423T015045
CREATED:20250506T152038Z
LAST-MODIFIED:20250506T152038Z
UID:31610-1747036800-1747242000@minsports.gov.gr
SUMMARY:1ο Πολυθεματικό Συνέδριο του ΥΠΑΙΘ Αθλητισμού
DESCRIPTION:Ο Αναπληρωτής Υπουργός Παιδείας\, Θρησκευμάτων και Αθλητισμού Γιάννης Βρούτσης και ο Γενικός Γραμματέας Αθλητισμού Γιώργος Μαυρωτάς σας προσκαλούν στο 1ο Πολυθεματικό Συνέδριο του ΥΠΑΙΘ τομέα Αθλητισμού\, το οποίο θα διεξαχθεί 12 έως και 14 Μαΐου 2025\, στην αίθουσα Ζακλίν Ντε Ρομιγύ του ΥΠΑΙΘΑ (Ανδρέα Παπανδρέου 37\, 15180\, Μαρούσι). \n  \nΗ πρώτη ημέρα του Συνεδρίου\, Δευτέρα 12 Μαΐου\, περιλαμβάνει συζητήσεις και ομιλίες επιστημόνων από τον χώρο της υγείας\, της ιατρικής\, της αθλητικής ψυχολογίας κ.α. με κύρια θεματική την ψυχική υγεία του αθλητή\, καθώς και εμπειρικά δεδομένα και βιωματικές εμπειρίες αθλητών υψηλού αγωνιστικού επιπέδου και προπονητών ως προς τη διαχείριση του στρες και τη θωράκιση της ψυχικής υγείας στον αθλητισμό. \n  \nΗ δεύτερη ημέρα\, Τρίτη 13 Μαΐου\,  ξεκινάει με τη θεματική της ασφάλειας και ευημερίας στον αθλητισμό και οι επόμενες ενότητες επικεντρώνονται στον εργασιακό αθλητισμό\, στις καλές πρακτικές των ΠΑγΟ και ΕΑγΟ και ολοκληρώνεται με την 3η ενότητα η οποία αφορά σε θέματα χρηστής διακυβέρνησης\, όπως η αξιολόγηση των αθλητικών ομοσπονδιών και σωματείων\, τα στρατηγικά σχέδια\,  η προώθηση της ισότητας των φύλων στον αθλητισμό και η εκπαίδευση των στελεχών των αθλητικών ομοσπονδιών για την εφαρμογή του κώδικα χρηστής διακυβέρνησης (workshop). \n  \nΤο 1ο Πολυθεματικό Συνέδριο στον Αθλητισμό ολοκληρώνεται την τρίτη ημέρα\, Τετάρτη 14 Μαΐου\, με κύρια θεματική τον επαγγελματικό προσανατολισμό νέων αθλητών και αθλητών υψηλού αγωνιστικού επιπέδου και περιλαμβάνει εισηγήσεις επιστημόνων ως προς τις νέες μορφές αθλητικής απασχόλησης\, την επιστημονική υποστήριξη στον αθλητισμό\, βιωματικές αναφορές αθλητών ως προς την επαγγελματική τους απασχόληση\, εισηγήσεις ως προς τη συνεχή αναβάθμιση και επανεκπαίδευση των αθλητών και των επαγγελματιών αθλητισμού\, επιμόρφωση των αθλητικών στελεχών σε διεθνή θέματα αθλητισμού  καθώς και εισηγήσεις για το Πρότυπο πιστοποίησης διακεκριμένων αθλητών και τη συμβολή τους στην προώθηση Αθλητικών Αξιών στα παιδιά\, μέσω προγραμμάτων ΔΗΜΗΤΡΙΟΣ ΒΙΚΕΛΑΣ του ΥΠΑΙΘΑ – τομέας Αθλητισμού.
URL:https://minsports.gov.gr/event/1o-polythematiko-synedrio-tou-ypaith-athlitismou/
LOCATION:ΥΠΟΥΡΓΕΙΟ ΠΑΙΔΕΙΑΣ\, ΘΡΗΣΚΕΥΜΑΤΩΝ ΚΑΙ ΑΘΛΗΤΙΣΜΟΥ\, ΑΝΔΡΕΑ ΠΑΠΑΝΔΡΕΟΥ 37\, ΜΑΡΟΥΣΙ\, ΑΤΤΙΚΗΣ\, 15180\, Ελλάδα
ATTACH;FMTTYPE=image/jpeg:https://minsports.gov.gr/wp-content/uploads/2025/05/πρόσκληση-συνεδρίου.jpg
ORGANIZER;CN="%CE%93%CE%95%CE%9D%CE%99%CE%9A%CE%97 %CE%93%CE%A1%CE%91%CE%9C%CE%9C%CE%91%CE%A4%CE%95%CE%99%CE%91 %CE%91%CE%98%CE%9B%CE%97%CE%A4%CE%99%CE%A3%CE%9C%CE%9F%CE%A5":MAILTO:sitegga@gga.gov.g r
END:VEVENT
BEGIN:VEVENT
DTSTART;VALUE=DATE:20250529
DTEND;VALUE=DATE:20250530
DTSTAMP:20260423T015045
CREATED:20250528T105310Z
LAST-MODIFIED:20250528T105310Z
UID:31891-1748476800-1748563199@minsports.gov.gr
SUMMARY:2η Ετήσια Έκθεση του "e-kouros"
DESCRIPTION:E-KOUROS 2025 \nΈνα χρόνο μετά την παρουσίαση της πρώτης Έκθεσης του e-Κouros\, η 2η Έκθεση είναι πλέον γεγονός! Με την ψηφιακή καταγραφή όλων των στοιχείων του ελληνικού αθλητισμού για το 2024 και με συγκριτικά μεγέθη για το 2023: Ομοσπονδίες\, αθλήματα\, αθλητικό δυναμικό\, προπονητές και φέτος για πρώτη φορά όλες οι αθλητικές εγκαταστάσεις. Η παρουσίαση του e-Kouros II\, θα γίνει από τον αναπληρωτή Υπουργό Αθλητισμού\, Γιάννη Βρούτση\, την Πέμπτη\, 29 Μαΐου 2025 και ώρα 11:30 στο Ολυμπιακό Ποδηλατοδρόμιο – ΟΑΚΑ.
URL:https://minsports.gov.gr/event/2i-etisia-ekthesi-tou-e-kouros/
LOCATION:Ο.Α.Κ.Α. Ολυμπιακό Ποδηλατοδρόμιο\, Κηφισίας 37\, Αθήνα 151 23\, ΜΑΡΟΥΣΙ\, ΑΤΤΙΚΗΣ\, 15123\, Greece
ATTACH;FMTTYPE=image/jpeg:https://minsports.gov.gr/wp-content/uploads/2025/05/e-kouros.jpeg
ORGANIZER;CN="%CE%A5%CE%A0%CE%9F%CE%A5%CE%A1%CE%93%CE%95%CE%99%CE%9F %CE%A0%CE%91%CE%99%CE%94%CE%95%CE%99%CE%91%CE%A3%2C %CE%98%CE%A1%CE%97%CE%A3%CE%9A%CE%95%CE%A5%CE%9C%CE%91%CE%A4%CE%A9%CE%9D %CE%9A%CE%91%CE%99 %CE%91%CE%98%CE%9B%CE%97%CE%A4%CE%99%CE%A3%CE%9C%CE%9F%CE%A5":MAILTO:sitegga@gga.gov.g r
END:VEVENT
BEGIN:VEVENT
DTSTART;TZID=Europe/Athens:20260119T103000
DTEND;TZID=Europe/Athens:20260119T150000
DTSTAMP:20260423T015045
CREATED:20260130T105859Z
LAST-MODIFIED:20260130T110223Z
UID:34527-1768818600-1768834800@minsports.gov.gr
SUMMARY:ΗΜΕΡΙΔΑ "Ο θεσμός του Υπεύθυνου Ασφάλειας και Ευημερίας στον Αθλητισμό"
DESCRIPTION:Ο θεσμός του Υπευθύνου Ασφαλείας και Ευημερίας Αθλητών/τριών (Υ.Α.Ε.Α.) και οι διαδικασίες πιστοποίησής του βρέθηκαν στο επίκεντρο της ενημερωτικής ημερίδας που διοργάνωσε σήμερα (19-1-26) η Διαρκής Επιτροπή Ασφάλειας και Ευημερίας στον Αθλητισμό (ΔΕΑΕΑ) με τη συμμετοχή εκπροσώπων των Ομοσπονδιών στο Υπουργείο Παιδείας\, Θρησκευμάτων και Αθλητισμού. \nΜε σκοπό την ενίσχυση\, την ασφάλεια και την ευημερία των αθλητών/τριών κατά το πρότυπο των διεθνών πρακτικών\, η 13μελής Επιτροπή που συστήθηκε με τον Ν.5176/2025 με πρόεδρο τον Γενικό Γραμματέα Αθλητισμού\, Γιώργο Μαυρωτά και εκπροσώπους από τα Υπουργεία Παιδείας\, Θρησκευμάτων και Αθλητισμού\, Υγείας\, Δικαιοσύνης\, Κοινωνικής Συνοχής και Οικογένειας και από την Ελληνική Ολυμπιακή Επιτροπή\, παρουσίασε στους εκπροσώπους των Ομοσπονδιών το θεσμικό πλαίσιο για τον Υ.Α.Ε.Α. το οποίο τίθεται σε εφαρμογή εντός του 2026\, υποχρεωτικά για όλες τις Ομοσπονδίες. \nΟ κ. Μαυρωτάς καλωσόρισε τους εκπροσώπους των Ομοσπονδιών και περιέγραψε το νομοθετικό πλαίσιο καθώς και την Απόφαση του Αναπληρωτή Υπουργού Παιδείας Θρησκευμάτων & Αθλητισμού\, Γιάννη Βρούτση\, με την οποία καθορίζονται οι ειδικότερες αρμοδιότητες\, τα πρόσθετα προσόντα και κάθε άλλο θέμα σχετικό με την άσκηση των καθηκόντων του Υ.Α.Ε.Α\, τονίζοντας πως απαραίτητη προϋπόθεση αποτελεί η επιτυχής παρακολούθηση των σεμιναρίων που θα οργανώσει και θα διεξάγει η ΔΕΑΕΑ κατά το 1ο εξάμηνο του 2026 σε συνεργασία με την Safe Sport από την Κύπρο\, παρουσιάζοντας και το προτεινόμενο χρονοδιάγραμμα.
URL:https://minsports.gov.gr/event/imerida-o-thesmos-tou-ypefthynou-asfaleias-kai-evimerias-ston-athlitismo/
LOCATION:ΥΠΟΥΡΓΕΙΟ ΠΑΙΔΕΙΑΣ\, ΘΡΗΣΚΕΥΜΑΤΩΝ ΚΑΙ ΑΘΛΗΤΙΣΜΟΥ\, ΑΝΔΡΕΑ ΠΑΠΑΝΔΡΕΟΥ 37\, ΜΑΡΟΥΣΙ\, ΑΤΤΙΚΗΣ\, 15180\, Ελλάδα
ATTACH;FMTTYPE=image/jpeg:https://minsports.gov.gr/wp-content/uploads/2026/01/photo2-19-1-26-768x512-1.jpg
ORGANIZER;CN="%CE%93%CE%95%CE%9D%CE%99%CE%9A%CE%97 %CE%93%CE%A1%CE%91%CE%9C%CE%9C%CE%91%CE%A4%CE%95%CE%99%CE%91 %CE%91%CE%98%CE%9B%CE%97%CE%A4%CE%99%CE%A3%CE%9C%CE%9F%CE%A5":MAILTO:sitegga@gga.gov.g r
END:VEVENT
END:VCALENDAR