BEGIN:VCALENDAR
VERSION:2.0
PRODID:-//Υπουργείο Αθλητισμού - ECPv6.6.4.2//NONSGML v1.0//EN
CALSCALE:GREGORIAN
METHOD:PUBLISH
X-ORIGINAL-URL:https://minsports.gov.gr
X-WR-CALDESC:Υπουργείο Αθλητισμού - Εκδηλώσεις
REFRESH-INTERVAL;VALUE=DURATION:PT1H
X-Robots-Tag:noindex
X-PUBLISHED-TTL:PT1H
BEGIN:VTIMEZONE
TZID:Europe/Athens
BEGIN:DAYLIGHT
TZOFFSETFROM:+0200
TZOFFSETTO:+0300
TZNAME:EEST
DTSTART:20240331T010000
END:DAYLIGHT
BEGIN:STANDARD
TZOFFSETFROM:+0300
TZOFFSETTO:+0200
TZNAME:EET
DTSTART:20241027T010000
END:STANDARD
END:VTIMEZONE
BEGIN:VEVENT
DTSTART;TZID=Europe/Athens:20240523T100000
DTEND;TZID=Europe/Athens:20240523T100000
DTSTAMP:20260423T051047
CREATED:20240517T070013Z
LAST-MODIFIED:20240517T120650Z
UID:27408-1716458400-1716458400@minsports.gov.gr
SUMMARY:1η Πανελλαδική Συνδιάσκεψη  «Η Στρατηγική πρόκληση αξιοποίησης των  Προγραμμάτων και Εκδηλώσεων Άθλησης για Όλους ως μοχλοί ανάπτυξης και ενεργητικής ένταξης στη Δια βίου Άθληση»
DESCRIPTION:1η Πανελλαδική Συνδιάσκεψη  \n«Η Στρατηγική πρόκληση αξιοποίησης των  Προγραμμάτων και Εκδηλώσεων Άθλησης για Όλους ως μοχλοί ανάπτυξης και ενεργητικής ένταξης στη Δια βίου Άθληση» \n  \nΠρόγραμμα  \n\n\n\n09:30 – 10:00\nΕγγραφές \n \n\n\n10:00 – 12:30\nΧαιρετισμοί – Ομιλίες \n  \n·        Γιάννης Βρούτσης\, Αναπλ. Υπουργός Παιδείας\, Θρησκευμάτων και Αθλητισμού \n·        Άκης Σκέρτσος\, Υπουργός Επικρατείας \n·        Θεόδωρος Λιβάνιος\, Αναπλ. Υπουργός Εσωτερικών \n·        Σοφία Ζαχαράκη\, Υπουργός Κοινωνικής Συνοχής και Οικογένειας \n\n\n\n\n\n\n\n\n\n\n•        Βασίλης Οικονόμου\, Βουλευτής Ανατολικής Αττικής\, με       διδακτορική διατριβή στον τομέα «Αθλητισμός για όλους – εξασφάλιση του δικαιώματος της ατομικής αξιοποίησης» \n\n\n\n\n\n\n\n·        Βούλα Πατουλίδου\, Αντιπεριφερειάρχης Θεσσαλονίκης\, εκπρόσωπος Προέδρου Ένωσης Περιφερειών Ελλάδας (ΕΝΠΕ) \n·        Λάζαρος Κυρίζογλου\, Δήμαρχος Αμπελοκήπων –Μενεμένης\, Πρόεδρος Κεντρικής Ένωσης Δήμων Ελλάδας (ΚΕΔΕ) \n·        Σπύρος Καπράλος\, Πρόεδρος Ελληνικής Ολυμπιακής Επιτροπής (ΕΟΕ) – Μέλος Διεθνούς Ολυμπιακής Επιτροπής (ΔΟΕ) \n·        Γιώργος Καπελλάκης\, Πρόεδρος Ελληνικής Παραολυμπιακής Επιτροπής (ΕΠΕ) \n·        Βούλα Ζυγούρη\, Πρόεδρος Συλλόγου Ελλήνων Ολυμπιονικών (ΣΕΟ) \n·        Βούλα Κοζομπόλη\, Πρόεδρος Ένωσης Συμμετασχόντων σε Ολυμπιακούς Αγώνες (ΕΣΟΑ) \n·        Γρηγόρης Πολυχρονίδης\, Πρόεδρος Συλλόγου Ελλήνων Παραολυμπιονικών (ΣΕΠ) \n·        Γεώργιος Πίγκος\, Προϊστάμενος της Διεύθυνσης Άθλησης για Όλους\, Προβολής\, Ανάπτυξης Αθλητισμού\, Επιστημονικής Υποστήριξης και Διεθνών Σχέσεων\, Υπουργείου Αθλητισμού \n \n\n\n12:30 – 13:00\nΔιάλλειμα – Καφές \n \n\n\n13:00 – 15:00\nΕρωτήσεις – Συζήτηση \n \n\n\n\n 
URL:https://minsports.gov.gr/event/1i-panelladiki-syndiaskepsi-i-stratigiki-proklisi-axiopoiisis-ton-programmaton-kai-ekdiloseon-athlisis-gia-olous-os-mochloi-anaptyxis-kai-energitikis-entaxis-sti-dia-viou-athlisi/
LOCATION:Στάδιο Ειρήνης και Φιλίας\, Εθνάρχου Μακαρίου 1\, Νέο Φάληρο\, Αττική\, 18547\, Ελλάδα
ATTACH;FMTTYPE=image/jpeg:https://minsports.gov.gr/wp-content/uploads/2024/05/prosklisi_athlisi_gia_olous.jpg
END:VEVENT
END:VCALENDAR